{"text_format":"1","workbook":"xlsx","n_sheets":4,"sheets":["年間予定","スケジュール (リンク無し)","スケジュール (週案のみ)","スケジュール(見開き)"],"not_rendered":{"charts":0,"images":0,"macros":1,"external_links":0,"defined_names":7,"comments":0,"pivot_tables":0},"unopened":[],"bounds":{"document_bytes":16777216,"sheet_cells":100000,"rows_first":2000,"rows_last":500,"rows_between":2000,"halvings":0,"cell_chars":16384,"cell_head_chars":4096},"cells_cut":0,"cells_raw":0,"read":"whole","date_system":"1900"}

{"sheet":"年間予定","index":0,"n_rows":368,"n_cols":9,"rows_kept":368,"cut":false,"hidden":false,"merged":[]}
[null,null,null,null,"2024"]
["月曜日の数を数える","月曜日を１","月＝１、火＝２…",null,null,null,"校時","行事予定","週"]
[{"$f":"COUNTIF($B$3,1)","v":0},{"$f":"IF(F3=\"月\",1,0)","v":0},{"$f":"_xlfn.IFS(F3=\"(月)\",1,F3=\"(火)\",2,F3=\"(水)\",3,F3=\"(木)\",4,F3=\"(金)\",5,F3=\"(土)\",6,F3=\"(日)\",7)","v":1},{"$f":"A3*10+C3","v":1},{"$f":"DATE(E1,4,1)","v":"2024-04-01"},{"$f":"TEXT(E3,\"(aaa)\")","v":"(月)"}]
[{"$f":"COUNTIF($B$3:B4,1)","v":0},{"$f":"IF(F4=\"月\",1,0)","v":0},{"$f":"_xlfn.IFS(F4=\"(月)\",1,F4=\"(火)\",2,F4=\"(水)\",3,F4=\"(木)\",4,F4=\"(金)\",5,F4=\"(土)\",6,F4=\"(日)\",7)","v":2},{"$f":"A4*10+C4","v":2},{"$f":"E3+1","v":"2024-04-02"},{"$f":"TEXT(E4,\"(aaa)\")","v":"(火)"}]
[{"$f":"COUNTIF($B$4:B5,1)","v":0},{"$f":"IF(F5=\"月\",1,0)","v":0},3,3,{"$f":"E4+1","v":"2024-04-03"},"(水)"]
[{"$f":"COUNTIF($B$4:B6,1)","v":0},{"$f":"IF(F6=\"(月)\",1,0)","v":0},4,4,{"$f":"E5+1","v":"2024-04-04"},"(木)"]
[{"$f":"COUNTIF($B$4:B7,1)","v":0},0,5,5,"2024-04-05","(金)"]
[{"$f":"COUNTIF($B$4:B8,1)","v":0},0,6,6,"2024-04-06","(土)"]
[{"$f":"COUNTIF($B$4:B9,1)","v":0},0,7,7,"2024-04-07","(日)"]
[{"$f":"COUNTIF($B$4:B10,1)","v":1},1,1,11,"2024-04-08","(月)",null,"始業式","A"]
[{"$f":"COUNTIF($B$4:B11,1)","v":1},0,2,12,"2024-04-09","(火)",null,"離任式","A"]
[{"$f":"COUNTIF($B$4:B12,1)","v":1},0,3,13,"2024-04-10","(水)",null,"地区児童会","A"]
[{"$f":"COUNTIF($B$4:B13,1)","v":1},0,4,14,"2024-04-11","(木)",null,"午前中授業","A"]
[{"$f":"COUNTIF($B$4:B14,1)","v":1},0,5,15,"2024-04-12","(金)",null,"午前中授業","A"]
[{"$f":"COUNTIF($B$4:B15,1)","v":1},0,6,16,"2024-04-13","(土)"]
[{"$f":"COUNTIF($B$4:B16,1)","v":1},0,7,17,"2024-04-14","(日)"]
[{"$f":"COUNTIF($B$4:B17,1)","v":2},1,1,21,"2024-04-15","(月)",null,"職員打ち合わせ","B"]
[{"$f":"COUNTIF($B$4:B18,1)","v":2},0,2,22,"2024-04-16","(火)","短縮","校務分掌部会","B"]
[{"$f":"COUNTIF($B$4:B19,1)","v":2},0,3,23,{"$f":"E18+1","v":"2024-04-17"},"(水)",null,"研究会","B"]
[{"$f":"COUNTIF($B$4:B20,1)","v":2},0,4,24,"2024-04-18","(木)",null,"学年集会(４時間目)","B"]
[{"$f":"COUNTIF($B$4:B21,1)","v":2},0,5,25,"2024-04-19","(金)",null,"職員会議","B"]
[{"$f":"COUNTIF($B$4:B22,1)","v":2},0,6,26,"2024-04-20","(土)"]
[{"$f":"COUNTIF($B$4:B23,1)","v":2},0,7,27,"2024-04-21","(日)"]
[{"$f":"COUNTIF($B$4:B24,1)","v":3},1,1,31,"2024-04-22","(月)"]
[{"$f":"COUNTIF($B$4:B25,1)","v":3},0,2,32,"2024-04-23","(火)"]
[{"$f":"COUNTIF($B$4:B26,1)","v":3},0,3,33,"2024-04-24","(水)"]
[{"$f":"COUNTIF($B$4:B27,1)","v":3},0,4,34,"2024-04-25","(木)"]
[{"$f":"COUNTIF($B$4:B28,1)","v":3},0,5,35,"2024-04-26","(金)"]
[{"$f":"COUNTIF($B$4:B29,1)","v":3},0,6,36,"2024-04-27","(土)"]
[{"$f":"COUNTIF($B$4:B30,1)","v":3},0,7,37,"2024-04-28","(日)"]
[{"$f":"COUNTIF($B$4:B31,1)","v":4},1,1,41,"2024-04-29","(月)"]
[{"$f":"COUNTIF($B$4:B32,1)","v":4},0,2,42,"2024-04-30","(火)"]
[{"$f":"COUNTIF($B$4:B33,1)","v":4},0,3,43,{"$f":"E32+1","v":"2024-05-01"},"(水)"]
[{"$f":"COUNTIF($B$4:B34,1)","v":4},0,4,44,"2024-05-02","(木)"]
[{"$f":"COUNTIF($B$4:B35,1)","v":4},0,5,45,"2024-05-03","(金)"]
[{"$f":"COUNTIF($B$4:B36,1)","v":4},0,6,46,"2024-05-04","(土)"]
[{"$f":"COUNTIF($B$4:B37,1)","v":4},0,7,47,"2024-05-05","(日)"]
[{"$f":"COUNTIF($B$4:B38,1)","v":5},1,1,51,"2024-05-06","(月)"]
[{"$f":"COUNTIF($B$4:B39,1)","v":5},0,2,52,"2024-05-07","(火)"]
[{"$f":"COUNTIF($B$4:B40,1)","v":5},0,3,53,"2024-05-08","(水)"]
[{"$f":"COUNTIF($B$4:B41,1)","v":5},0,4,54,"2024-05-09","(木)"]
[{"$f":"COUNTIF($B$4:B42,1)","v":5},0,5,55,"2024-05-10","(金)"]
[{"$f":"COUNTIF($B$4:B43,1)","v":5},0,6,56,"2024-05-11","(土)"]
[{"$f":"COUNTIF($B$4:B44,1)","v":5},0,7,57,"2024-05-12","(日)"]
[{"$f":"COUNTIF($B$4:B45,1)","v":6},1,1,61,"2024-05-13","(月)"]
[{"$f":"COUNTIF($B$4:B46,1)","v":6},0,2,62,"2024-05-14","(火)"]
[{"$f":"COUNTIF($B$4:B47,1)","v":6},0,3,63,"2024-05-15","(水)"]
[{"$f":"COUNTIF($B$4:B48,1)","v":6},0,4,64,"2024-05-16","(木)"]
[{"$f":"COUNTIF($B$4:B49,1)","v":6},0,5,65,"2024-05-17","(金)"]
[{"$f":"COUNTIF($B$4:B50,1)","v":6},0,6,66,"2024-05-18","(土)"]
[{"$f":"COUNTIF($B$4:B51,1)","v":6},0,7,67,"2024-05-19","(日)"]
[{"$f":"COUNTIF($B$4:B52,1)","v":7},1,1,71,"2024-05-20","(月)"]
[{"$f":"COUNTIF($B$4:B53,1)","v":7},0,2,72,"2024-05-21","(火)"]
[{"$f":"COUNTIF($B$4:B54,1)","v":7},0,3,73,"2024-05-22","(水)"]
[{"$f":"COUNTIF($B$4:B55,1)","v":7},0,4,74,"2024-05-23","(木)"]
[{"$f":"COUNTIF($B$4:B56,1)","v":7},0,5,75,"2024-05-24","(金)"]
[{"$f":"COUNTIF($B$4:B57,1)","v":7},0,6,76,"2024-05-25","(土)"]
[{"$f":"COUNTIF($B$4:B58,1)","v":7},0,7,77,"2024-05-26","(日)"]
[{"$f":"COUNTIF($B$4:B59,1)","v":8},1,1,81,"2024-05-27","(月)"]
[{"$f":"COUNTIF($B$4:B60,1)","v":8},0,2,82,"2024-05-28","(火)"]
[{"$f":"COUNTIF($B$4:B61,1)","v":8},0,3,83,"2024-05-29","(水)"]
[{"$f":"COUNTIF($B$4:B62,1)","v":8},0,4,84,"2024-05-30","(木)"]
[{"$f":"COUNTIF($B$4:B63,1)","v":8},0,5,85,"2024-05-31","(金)"]
[{"$f":"COUNTIF($B$4:B64,1)","v":8},0,6,86,"2024-06-01","(土)"]
[{"$f":"COUNTIF($B$4:B65,1)","v":8},0,7,87,"2024-06-02","(日)"]
[{"$f":"COUNTIF($B$4:B66,1)","v":9},1,1,91,"2024-06-03","(月)"]
[{"$f":"COUNTIF($B$4:B67,1)","v":9},0,2,92,"2024-06-04","(火)"]
[{"$f":"COUNTIF($B$4:B68,1)","v":9},0,{"$f":"_xlfn.IFS(F68=\"(月)\",1,F68=\"(火)\",2,F68=\"(水)\",3,F68=\"(木)\",4,F68=\"(金)\",5,F68=\"(土)\",6,F68=\"(日)\",7)","v":3},{"$f":"A68*10+C68","v":93},"2024-06-05",{"$f":"TEXT(E68,\"(aaa)\")","v":"(水)"}]
[{"$f":"COUNTIF($B$4:B69,1)","v":9},0,4,94,"2024-06-06","(木)"]
[{"$f":"COUNTIF($B$4:B70,1)","v":9},{"$f":"IF(F70=\"(月)\",1,0)","v":0},5,95,"2024-06-07","(金)"]
[{"$f":"COUNTIF($B$4:B71,1)","v":9},0,6,96,"2024-06-08","(土)"]
[{"$f":"COUNTIF($B$4:B72,1)","v":9},0,7,97,"2024-06-09","(日)"]
[{"$f":"COUNTIF($B$4:B73,1)","v":10},1,1,101,"2024-06-10","(月)"]
[{"$f":"COUNTIF($B$4:B74,1)","v":10},0,2,102,"2024-06-11","(火)"]
[{"$f":"COUNTIF($B$4:B75,1)","v":10},0,3,103,"2024-06-12","(水)"]
[{"$f":"COUNTIF($B$4:B76,1)","v":10},0,4,104,"2024-06-13","(木)"]
[{"$f":"COUNTIF($B$4:B77,1)","v":10},0,5,105,"2024-06-14","(金)"]
[{"$f":"COUNTIF($B$4:B78,1)","v":10},0,6,106,"2024-06-15","(土)"]
[{"$f":"COUNTIF($B$4:B79,1)","v":10},0,7,107,"2024-06-16","(日)"]
[{"$f":"COUNTIF($B$4:B80,1)","v":11},1,1,111,"2024-06-17","(月)"]
[{"$f":"COUNTIF($B$4:B81,1)","v":11},0,2,112,"2024-06-18","(火)"]
[{"$f":"COUNTIF($B$4:B82,1)","v":11},0,3,113,"2024-06-19","(水)"]
[{"$f":"COUNTIF($B$4:B83,1)","v":11},0,4,114,"2024-06-20","(木)"]
[{"$f":"COUNTIF($B$4:B84,1)","v":11},0,5,115,"2024-06-21","(金)"]
[{"$f":"COUNTIF($B$4:B85,1)","v":11},0,6,116,"2024-06-22","(土)"]
[{"$f":"COUNTIF($B$4:B86,1)","v":11},0,7,117,"2024-06-23","(日)"]
[{"$f":"COUNTIF($B$4:B87,1)","v":12},1,1,121,"2024-06-24","(月)"]
[{"$f":"COUNTIF($B$4:B88,1)","v":12},0,2,122,"2024-06-25","(火)"]
[{"$f":"COUNTIF($B$4:B89,1)","v":12},0,3,123,"2024-06-26","(水)"]
[{"$f":"COUNTIF($B$4:B90,1)","v":12},0,4,124,"2024-06-27","(木)"]
[{"$f":"COUNTIF($B$4:B91,1)","v":12},0,5,125,"2024-06-28","(金)"]
[{"$f":"COUNTIF($B$4:B92,1)","v":12},0,6,126,"2024-06-29","(土)"]
[{"$f":"COUNTIF($B$4:B93,1)","v":12},0,7,127,"2024-06-30","(日)"]
[{"$f":"COUNTIF($B$4:B94,1)","v":13},1,1,131,"2024-07-01","(月)"]
[{"$f":"COUNTIF($B$4:B95,1)","v":13},0,2,132,"2024-07-02","(火)"]
[{"$f":"COUNTIF($B$4:B96,1)","v":13},0,3,133,"2024-07-03","(水)"]
[{"$f":"COUNTIF($B$4:B97,1)","v":13},0,4,134,{"$f":"E96+1","v":"2024-07-04"},"(木)"]
[{"$f":"COUNTIF($B$4:B98,1)","v":13},0,5,135,"2024-07-05","(金)"]
[{"$f":"COUNTIF($B$4:B99,1)","v":13},0,6,136,"2024-07-06","(土)"]
[{"$f":"COUNTIF($B$4:B100,1)","v":13},0,7,137,"2024-07-07","(日)"]
[{"$f":"COUNTIF($B$4:B101,1)","v":14},1,1,141,"2024-07-08","(月)"]
[{"$f":"COUNTIF($B$4:B102,1)","v":14},0,2,142,"2024-07-09","(火)"]
[{"$f":"COUNTIF($B$4:B103,1)","v":14},0,3,143,"2024-07-10","(水)"]
[{"$f":"COUNTIF($B$4:B104,1)","v":14},0,4,144,"2024-07-11","(木)"]
[{"$f":"COUNTIF($B$4:B105,1)","v":14},0,5,145,"2024-07-12","(金)"]
[{"$f":"COUNTIF($B$4:B106,1)","v":14},0,6,146,"2024-07-13","(土)"]
[{"$f":"COUNTIF($B$4:B107,1)","v":14},0,7,147,"2024-07-14","(日)"]
[{"$f":"COUNTIF($B$4:B108,1)","v":15},1,1,151,"2024-07-15","(月)"]
[{"$f":"COUNTIF($B$4:B109,1)","v":15},0,2,152,{"$f":"E108+1","v":"2024-07-16"},"(火)"]
[{"$f":"COUNTIF($B$4:B110,1)","v":15},0,3,153,"2024-07-17","(水)"]
[{"$f":"COUNTIF($B$4:B111,1)","v":15},0,4,154,"2024-07-18","(木)"]
[{"$f":"COUNTIF($B$4:B112,1)","v":15},0,5,155,"2024-07-19","(金)"]
[{"$f":"COUNTIF($B$4:B113,1)","v":15},0,6,156,"2024-07-20","(土)"]
[{"$f":"COUNTIF($B$4:B114,1)","v":15},0,7,157,"2024-07-21","(日)"]
[{"$f":"COUNTIF($B$4:B115,1)","v":16},1,1,161,"2024-07-22","(月)"]
[{"$f":"COUNTIF($B$4:B116,1)","v":16},0,2,162,"2024-07-23","(火)"]
[{"$f":"COUNTIF($B$4:B117,1)","v":16},0,3,163,"2024-07-24","(水)"]
[{"$f":"COUNTIF($B$4:B118,1)","v":16},0,4,164,"2024-07-25","(木)"]
[{"$f":"COUNTIF($B$4:B119,1)","v":16},0,5,165,"2024-07-26","(金)"]
[{"$f":"COUNTIF($B$4:B120,1)","v":16},0,6,166,"2024-07-27","(土)"]
[{"$f":"COUNTIF($B$4:B121,1)","v":16},0,7,167,"2024-07-28","(日)"]
[{"$f":"COUNTIF($B$4:B122,1)","v":17},1,1,171,"2024-07-29","(月)"]
[{"$f":"COUNTIF($B$4:B123,1)","v":17},0,2,172,"2024-07-30","(火)"]
[{"$f":"COUNTIF($B$4:B124,1)","v":17},0,3,173,"2024-07-31","(水)"]
[{"$f":"COUNTIF($B$4:B125,1)","v":17},0,4,174,"2024-08-01","(木)"]
[{"$f":"COUNTIF($B$4:B126,1)","v":17},0,5,175,"2024-08-02","(金)"]
[{"$f":"COUNTIF($B$4:B127,1)","v":17},0,6,176,"2024-08-03","(土)"]
[{"$f":"COUNTIF($B$4:B128,1)","v":17},0,7,177,"2024-08-04","(日)"]
[{"$f":"COUNTIF($B$4:B129,1)","v":18},1,1,181,"2024-08-05","(月)"]
[{"$f":"COUNTIF($B$4:B130,1)","v":18},0,2,182,"2024-08-06","(火)"]
[{"$f":"COUNTIF($B$4:B131,1)","v":18},0,3,183,"2024-08-07","(水)"]
[{"$f":"COUNTIF($B$4:B132,1)","v":18},0,{"$f":"_xlfn.IFS(F132=\"(月)\",1,F132=\"(火)\",2,F132=\"(水)\",3,F132=\"(木)\",4,F132=\"(金)\",5,F132=\"(土)\",6,F132=\"(日)\",7)","v":4},{"$f":"A132*10+C132","v":184},"2024-08-08",{"$f":"TEXT(E132,\"(aaa)\")","v":"(木)"}]
[{"$f":"COUNTIF($B$4:B133,1)","v":18},0,5,185,"2024-08-09","(金)"]
[{"$f":"COUNTIF($B$4:B134,1)","v":18},{"$f":"IF(F134=\"(月)\",1,0)","v":0},6,186,"2024-08-10","(土)"]
[{"$f":"COUNTIF($B$4:B135,1)","v":18},0,7,187,"2024-08-11","(日)"]
[{"$f":"COUNTIF($B$4:B136,1)","v":19},1,1,191,"2024-08-12","(月)"]
[{"$f":"COUNTIF($B$4:B137,1)","v":19},0,2,192,"2024-08-13","(火)"]
[{"$f":"COUNTIF($B$4:B138,1)","v":19},0,3,193,"2024-08-14","(水)"]
[{"$f":"COUNTIF($B$4:B139,1)","v":19},0,4,194,"2024-08-15","(木)"]
[{"$f":"COUNTIF($B$4:B140,1)","v":19},0,5,195,"2024-08-16","(金)"]
[{"$f":"COUNTIF($B$4:B141,1)","v":19},0,6,196,"2024-08-17","(土)"]
[{"$f":"COUNTIF($B$4:B142,1)","v":19},0,7,197,"2024-08-18","(日)"]
[{"$f":"COUNTIF($B$4:B143,1)","v":20},1,1,201,"2024-08-19","(月)"]
[{"$f":"COUNTIF($B$4:B144,1)","v":20},0,2,202,"2024-08-20","(火)"]
[{"$f":"COUNTIF($B$4:B145,1)","v":20},0,3,203,"2024-08-21","(水)"]
[{"$f":"COUNTIF($B$4:B146,1)","v":20},0,4,204,"2024-08-22","(木)"]
[{"$f":"COUNTIF($B$4:B147,1)","v":20},0,5,205,"2024-08-23","(金)"]
[{"$f":"COUNTIF($B$4:B148,1)","v":20},0,6,206,"2024-08-24","(土)"]
[{"$f":"COUNTIF($B$4:B149,1)","v":20},0,7,207,"2024-08-25","(日)"]
[{"$f":"COUNTIF($B$4:B150,1)","v":21},1,1,211,"2024-08-26","(月)"]
[{"$f":"COUNTIF($B$4:B151,1)","v":21},0,2,212,"2024-08-27","(火)"]
[{"$f":"COUNTIF($B$4:B152,1)","v":21},0,3,213,"2024-08-28","(水)"]
[{"$f":"COUNTIF($B$4:B153,1)","v":21},0,4,214,"2024-08-29","(木)"]
[{"$f":"COUNTIF($B$4:B154,1)","v":21},0,5,215,"2024-08-30","(金)"]
[{"$f":"COUNTIF($B$4:B155,1)","v":21},0,6,216,"2024-08-31","(土)"]
[{"$f":"COUNTIF($B$4:B156,1)","v":21},0,7,217,"2024-09-01","(日)"]
[{"$f":"COUNTIF($B$4:B157,1)","v":22},1,1,221,"2024-09-02","(月)"]
[{"$f":"COUNTIF($B$4:B158,1)","v":22},0,2,222,"2024-09-03","(火)"]
[{"$f":"COUNTIF($B$4:B159,1)","v":22},0,3,223,"2024-09-04","(水)"]
[{"$f":"COUNTIF($B$4:B160,1)","v":22},0,4,224,"2024-09-05","(木)"]
[{"$f":"COUNTIF($B$4:B161,1)","v":22},0,5,225,"2024-09-06","(金)"]
[{"$f":"COUNTIF($B$4:B162,1)","v":22},0,6,226,"2024-09-07","(土)"]
[{"$f":"COUNTIF($B$4:B163,1)","v":22},0,7,227,"2024-09-08","(日)"]
[{"$f":"COUNTIF($B$4:B164,1)","v":23},1,1,231,"2024-09-09","(月)"]
[{"$f":"COUNTIF($B$4:B165,1)","v":23},0,2,232,"2024-09-10","(火)"]
[{"$f":"COUNTIF($B$4:B166,1)","v":23},0,3,233,"2024-09-11","(水)"]
[{"$f":"COUNTIF($B$4:B167,1)","v":23},0,4,234,"2024-09-12","(木)"]
[{"$f":"COUNTIF($B$4:B168,1)","v":23},0,5,235,"2024-09-13","(金)"]
[{"$f":"COUNTIF($B$4:B169,1)","v":23},0,6,236,"2024-09-14","(土)"]
[{"$f":"COUNTIF($B$4:B170,1)","v":23},0,7,237,"2024-09-15","(日)"]
[{"$f":"COUNTIF($B$4:B171,1)","v":24},1,1,241,"2024-09-16","(月)"]
[{"$f":"COUNTIF($B$4:B172,1)","v":24},0,2,242,"2024-09-17","(火)"]
[{"$f":"COUNTIF($B$4:B173,1)","v":24},0,3,243,{"$f":"E172+1","v":"2024-09-18"},"(水)"]
[{"$f":"COUNTIF($B$4:B174,1)","v":24},0,4,244,"2024-09-19","(木)"]
[{"$f":"COUNTIF($B$4:B175,1)","v":24},0,5,245,"2024-09-20","(金)"]
[{"$f":"COUNTIF($B$4:B176,1)","v":24},0,6,246,"2024-09-21","(土)"]
[{"$f":"COUNTIF($B$4:B177,1)","v":24},0,7,247,"2024-09-22","(日)"]
[{"$f":"COUNTIF($B$4:B178,1)","v":25},1,1,251,"2024-09-23","(月)"]
[{"$f":"COUNTIF($B$4:B179,1)","v":25},0,2,252,"2024-09-24","(火)"]
[{"$f":"COUNTIF($B$4:B180,1)","v":25},0,3,253,"2024-09-25","(水)"]
[{"$f":"COUNTIF($B$4:B181,1)","v":25},0,4,254,"2024-09-26","(木)"]
[{"$f":"COUNTIF($B$4:B182,1)","v":25},0,5,255,"2024-09-27","(金)"]
[{"$f":"COUNTIF($B$4:B183,1)","v":25},0,6,256,"2024-09-28","(土)"]
[{"$f":"COUNTIF($B$4:B184,1)","v":25},0,7,257,"2024-09-29","(日)"]
[{"$f":"COUNTIF($B$4:B185,1)","v":26},1,1,261,"2024-09-30","(月)"]
[{"$f":"COUNTIF($B$4:B186,1)","v":26},0,2,262,"2024-10-01","(火)"]
[{"$f":"COUNTIF($B$4:B187,1)","v":26},0,3,263,"2024-10-02","(水)"]
[{"$f":"COUNTIF($B$4:B188,1)","v":26},0,4,264,"2024-10-03","(木)"]
[{"$f":"COUNTIF($B$4:B189,1)","v":26},0,5,265,"2024-10-04","(金)"]
[{"$f":"COUNTIF($B$4:B190,1)","v":26},0,6,266,"2024-10-05","(土)"]
[{"$f":"COUNTIF($B$4:B191,1)","v":26},0,7,267,"2024-10-06","(日)"]
[{"$f":"COUNTIF($B$4:B192,1)","v":27},1,1,271,"2024-10-07","(月)"]
[{"$f":"COUNTIF($B$4:B193,1)","v":27},0,2,272,"2024-10-08","(火)"]
[{"$f":"COUNTIF($B$4:B194,1)","v":27},0,3,273,"2024-10-09","(水)"]
[{"$f":"COUNTIF($B$4:B195,1)","v":27},0,4,274,"2024-10-10","(木)"]
[{"$f":"COUNTIF($B$4:B196,1)","v":27},0,{"$f":"_xlfn.IFS(F196=\"(月)\",1,F196=\"(火)\",2,F196=\"(水)\",3,F196=\"(木)\",4,F196=\"(金)\",5,F196=\"(土)\",6,F196=\"(日)\",7)","v":5},{"$f":"A196*10+C196","v":275},"2024-10-11",{"$f":"TEXT(E196,\"(aaa)\")","v":"(金)"}]
[{"$f":"COUNTIF($B$4:B197,1)","v":27},0,6,276,"2024-10-12","(土)"]
[{"$f":"COUNTIF($B$4:B198,1)","v":27},{"$f":"IF(F198=\"(月)\",1,0)","v":0},7,277,"2024-10-13","(日)"]
[{"$f":"COUNTIF($B$4:B199,1)","v":28},1,1,281,"2024-10-14","(月)"]
[{"$f":"COUNTIF($B$4:B200,1)","v":28},0,2,282,"2024-10-15","(火)"]
[{"$f":"COUNTIF($B$4:B201,1)","v":28},0,3,283,"2024-10-16","(水)"]
[{"$f":"COUNTIF($B$4:B202,1)","v":28},0,4,284,"2024-10-17","(木)"]
[{"$f":"COUNTIF($B$4:B203,1)","v":28},0,5,285,"2024-10-18","(金)"]
[{"$f":"COUNTIF($B$4:B204,1)","v":28},0,6,286,"2024-10-19","(土)"]
[{"$f":"COUNTIF($B$4:B205,1)","v":28},0,7,287,"2024-10-20","(日)"]
[{"$f":"COUNTIF($B$4:B206,1)","v":29},1,1,291,"2024-10-21","(月)"]
[{"$f":"COUNTIF($B$4:B207,1)","v":29},0,2,292,"2024-10-22","(火)"]
[{"$f":"COUNTIF($B$4:B208,1)","v":29},0,3,293,"2024-10-23","(水)"]
[{"$f":"COUNTIF($B$4:B209,1)","v":29},0,4,294,"2024-10-24","(木)"]
[{"$f":"COUNTIF($B$4:B210,1)","v":29},0,5,295,"2024-10-25","(金)"]
[{"$f":"COUNTIF($B$4:B211,1)","v":29},0,6,296,"2024-10-26","(土)"]
[{"$f":"COUNTIF($B$4:B212,1)","v":29},0,7,297,"2024-10-27","(日)"]
[{"$f":"COUNTIF($B$4:B213,1)","v":30},1,1,301,"2024-10-28","(月)"]
[{"$f":"COUNTIF($B$4:B214,1)","v":30},0,2,302,"2024-10-29","(火)"]
[{"$f":"COUNTIF($B$4:B215,1)","v":30},0,3,303,"2024-10-30","(水)"]
[{"$f":"COUNTIF($B$4:B216,1)","v":30},0,4,304,"2024-10-31","(木)"]
[{"$f":"COUNTIF($B$4:B217,1)","v":30},0,5,305,"2024-11-01","(金)"]
[{"$f":"COUNTIF($B$4:B218,1)","v":30},0,6,306,"2024-11-02","(土)"]
[{"$f":"COUNTIF($B$4:B219,1)","v":30},0,7,307,"2024-11-03","(日)"]
[{"$f":"COUNTIF($B$4:B220,1)","v":31},1,1,311,"2024-11-04","(月)"]
[{"$f":"COUNTIF($B$4:B221,1)","v":31},0,2,312,"2024-11-05","(火)"]
[{"$f":"COUNTIF($B$4:B222,1)","v":31},0,3,313,"2024-11-06","(水)"]
[{"$f":"COUNTIF($B$4:B223,1)","v":31},0,4,314,"2024-11-07","(木)"]
[{"$f":"COUNTIF($B$4:B224,1)","v":31},0,5,315,"2024-11-08","(金)"]
[{"$f":"COUNTIF($B$4:B225,1)","v":31},0,6,316,"2024-11-09","(土)"]
[{"$f":"COUNTIF($B$4:B226,1)","v":31},0,7,317,"2024-11-10","(日)"]
[{"$f":"COUNTIF($B$4:B227,1)","v":32},1,1,321,"2024-11-11","(月)"]
[{"$f":"COUNTIF($B$4:B228,1)","v":32},0,2,322,"2024-11-12","(火)"]
[{"$f":"COUNTIF($B$4:B229,1)","v":32},0,3,323,"2024-11-13","(水)"]
[{"$f":"COUNTIF($B$4:B230,1)","v":32},0,4,324,"2024-11-14","(木)"]
[{"$f":"COUNTIF($B$4:B231,1)","v":32},0,5,325,"2024-11-15","(金)"]
[{"$f":"COUNTIF($B$4:B232,1)","v":32},0,6,326,"2024-11-16","(土)"]
[{"$f":"COUNTIF($B$4:B233,1)","v":32},0,7,327,"2024-11-17","(日)"]
[{"$f":"COUNTIF($B$4:B234,1)","v":33},1,1,331,"2024-11-18","(月)"]
[{"$f":"COUNTIF($B$4:B235,1)","v":33},0,2,332,"2024-11-19","(火)"]
[{"$f":"COUNTIF($B$4:B236,1)","v":33},0,3,333,"2024-11-20","(水)"]
[{"$f":"COUNTIF($B$4:B237,1)","v":33},0,4,334,{"$f":"E236+1","v":"2024-11-21"},"(木)"]
[{"$f":"COUNTIF($B$4:B238,1)","v":33},0,5,335,"2024-11-22","(金)"]
[{"$f":"COUNTIF($B$4:B239,1)","v":33},0,6,336,"2024-11-23","(土)"]
[{"$f":"COUNTIF($B$4:B240,1)","v":33},0,7,337,"2024-11-24","(日)"]
[{"$f":"COUNTIF($B$4:B241,1)","v":34},1,1,341,"2024-11-25","(月)"]
[{"$f":"COUNTIF($B$4:B242,1)","v":34},0,2,342,"2024-11-26","(火)"]
[{"$f":"COUNTIF($B$4:B243,1)","v":34},0,3,343,"2024-11-27","(水)"]
[{"$f":"COUNTIF($B$4:B244,1)","v":34},0,4,344,"2024-11-28","(木)"]
[{"$f":"COUNTIF($B$4:B245,1)","v":34},0,5,345,"2024-11-29","(金)"]
[{"$f":"COUNTIF($B$4:B246,1)","v":34},0,6,346,"2024-11-30","(土)"]
[{"$f":"COUNTIF($B$4:B247,1)","v":34},0,7,347,"2024-12-01","(日)"]
[{"$f":"COUNTIF($B$4:B248,1)","v":35},1,1,351,"2024-12-02","(月)"]
[{"$f":"COUNTIF($B$4:B249,1)","v":35},0,2,352,"2024-12-03","(火)"]
[{"$f":"COUNTIF($B$4:B250,1)","v":35},0,3,353,"2024-12-04","(水)"]
[{"$f":"COUNTIF($B$4:B251,1)","v":35},0,4,354,"2024-12-05","(木)"]
[{"$f":"COUNTIF($B$4:B252,1)","v":35},0,5,355,"2024-12-06","(金)"]
[{"$f":"COUNTIF($B$4:B253,1)","v":35},0,6,356,"2024-12-07","(土)"]
[{"$f":"COUNTIF($B$4:B254,1)","v":35},0,7,357,"2024-12-08","(日)"]
[{"$f":"COUNTIF($B$4:B255,1)","v":36},1,1,361,"2024-12-09","(月)"]
[{"$f":"COUNTIF($B$4:B256,1)","v":36},0,2,362,"2024-12-10","(火)"]
[{"$f":"COUNTIF($B$4:B257,1)","v":36},0,3,363,"2024-12-11","(水)"]
[{"$f":"COUNTIF($B$4:B258,1)","v":36},0,4,364,"2024-12-12","(木)"]
[{"$f":"COUNTIF($B$4:B259,1)","v":36},0,5,365,"2024-12-13","(金)"]
[{"$f":"COUNTIF($B$4:B260,1)","v":36},0,{"$f":"_xlfn.IFS(F260=\"(月)\",1,F260=\"(火)\",2,F260=\"(水)\",3,F260=\"(木)\",4,F260=\"(金)\",5,F260=\"(土)\",6,F260=\"(日)\",7)","v":6},{"$f":"A260*10+C260","v":366},"2024-12-14",{"$f":"TEXT(E260,\"(aaa)\")","v":"(土)"}]
[{"$f":"COUNTIF($B$4:B261,1)","v":36},0,7,367,"2024-12-15","(日)"]
[{"$f":"COUNTIF($B$4:B262,1)","v":37},{"$f":"IF(F262=\"(月)\",1,0)","v":1},1,371,"2024-12-16","(月)"]
[{"$f":"COUNTIF($B$4:B263,1)","v":37},0,2,372,"2024-12-17","(火)"]
[{"$f":"COUNTIF($B$4:B264,1)","v":37},0,3,373,"2024-12-18","(水)"]
[{"$f":"COUNTIF($B$4:B265,1)","v":37},0,4,374,"2024-12-19","(木)"]
[{"$f":"COUNTIF($B$4:B266,1)","v":37},0,5,375,"2024-12-20","(金)"]
[{"$f":"COUNTIF($B$4:B267,1)","v":37},0,6,376,"2024-12-21","(土)"]
[{"$f":"COUNTIF($B$4:B268,1)","v":37},0,7,377,"2024-12-22","(日)"]
[{"$f":"COUNTIF($B$4:B269,1)","v":38},1,1,381,"2024-12-23","(月)"]
[{"$f":"COUNTIF($B$4:B270,1)","v":38},0,2,382,"2024-12-24","(火)"]
[{"$f":"COUNTIF($B$4:B271,1)","v":38},0,3,383,"2024-12-25","(水)"]
[{"$f":"COUNTIF($B$4:B272,1)","v":38},0,4,384,"2024-12-26","(木)"]
[{"$f":"COUNTIF($B$4:B273,1)","v":38},0,5,385,"2024-12-27","(金)"]
[{"$f":"COUNTIF($B$4:B274,1)","v":38},0,6,386,"2024-12-28","(土)"]
[{"$f":"COUNTIF($B$4:B275,1)","v":38},0,7,387,"2024-12-29","(日)"]
[{"$f":"COUNTIF($B$4:B276,1)","v":39},1,1,391,"2024-12-30","(月)"]
[{"$f":"COUNTIF($B$4:B277,1)","v":39},0,2,392,"2024-12-31","(火)"]
[{"$f":"COUNTIF($B$4:B278,1)","v":39},0,3,393,"2025-01-01","(水)"]
[{"$f":"COUNTIF($B$4:B279,1)","v":39},0,4,394,"2025-01-02","(木)"]
[{"$f":"COUNTIF($B$4:B280,1)","v":39},0,5,395,"2025-01-03","(金)"]
[{"$f":"COUNTIF($B$4:B281,1)","v":39},0,6,396,"2025-01-04","(土)"]
[{"$f":"COUNTIF($B$4:B282,1)","v":39},0,7,397,"2025-01-05","(日)"]
[{"$f":"COUNTIF($B$4:B283,1)","v":40},1,1,401,"2025-01-06","(月)"]
[{"$f":"COUNTIF($B$4:B284,1)","v":40},0,2,402,"2025-01-07","(火)"]
[{"$f":"COUNTIF($B$4:B285,1)","v":40},0,3,403,"2025-01-08","(水)"]
[{"$f":"COUNTIF($B$4:B286,1)","v":40},0,4,404,"2025-01-09","(木)"]
[{"$f":"COUNTIF($B$4:B287,1)","v":40},0,5,405,"2025-01-10","(金)"]
[{"$f":"COUNTIF($B$4:B288,1)","v":40},0,6,406,"2025-01-11","(土)"]
[{"$f":"COUNTIF($B$4:B289,1)","v":40},0,7,407,"2025-01-12","(日)"]
[{"$f":"COUNTIF($B$4:B290,1)","v":41},1,1,411,"2025-01-13","(月)"]
[{"$f":"COUNTIF($B$4:B291,1)","v":41},0,2,412,"2025-01-14","(火)"]
[{"$f":"COUNTIF($B$4:B292,1)","v":41},0,3,413,"2025-01-15","(水)"]
[{"$f":"COUNTIF($B$4:B293,1)","v":41},0,4,414,"2025-01-16","(木)"]
[{"$f":"COUNTIF($B$4:B294,1)","v":41},0,5,415,"2025-01-17","(金)"]
[{"$f":"COUNTIF($B$4:B295,1)","v":41},0,6,416,"2025-01-18","(土)"]
[{"$f":"COUNTIF($B$4:B296,1)","v":41},0,7,417,"2025-01-19","(日)"]
[{"$f":"COUNTIF($B$4:B297,1)","v":42},1,1,421,"2025-01-20","(月)"]
[{"$f":"COUNTIF($B$4:B298,1)","v":42},0,2,422,"2025-01-21","(火)"]
[{"$f":"COUNTIF($B$4:B299,1)","v":42},0,3,423,"2025-01-22","(水)"]
[{"$f":"COUNTIF($B$4:B300,1)","v":42},0,4,424,"2025-01-23","(木)"]
[{"$f":"COUNTIF($B$4:B301,1)","v":42},0,5,425,{"$f":"E300+1","v":"2025-01-24"},"(金)"]
[{"$f":"COUNTIF($B$4:B302,1)","v":42},0,6,426,"2025-01-25","(土)"]
[{"$f":"COUNTIF($B$4:B303,1)","v":42},0,7,427,"2025-01-26","(日)"]
[{"$f":"COUNTIF($B$4:B304,1)","v":43},1,1,431,"2025-01-27","(月)"]
[{"$f":"COUNTIF($B$4:B305,1)","v":43},0,2,432,"2025-01-28","(火)"]
[{"$f":"COUNTIF($B$4:B306,1)","v":43},0,3,433,"2025-01-29","(水)"]
[{"$f":"COUNTIF($B$4:B307,1)","v":43},0,4,434,"2025-01-30","(木)"]
[{"$f":"COUNTIF($B$4:B308,1)","v":43},0,5,435,"2025-01-31","(金)"]
[{"$f":"COUNTIF($B$4:B309,1)","v":43},0,6,436,"2025-02-01","(土)"]
[{"$f":"COUNTIF($B$4:B310,1)","v":43},0,7,437,"2025-02-02","(日)"]
[{"$f":"COUNTIF($B$4:B311,1)","v":44},1,1,441,"2025-02-03","(月)"]
[{"$f":"COUNTIF($B$4:B312,1)","v":44},0,2,442,"2025-02-04","(火)"]
[{"$f":"COUNTIF($B$4:B313,1)","v":44},0,3,443,"2025-02-05","(水)"]
[{"$f":"COUNTIF($B$4:B314,1)","v":44},0,4,444,"2025-02-06","(木)"]
[{"$f":"COUNTIF($B$4:B315,1)","v":44},0,5,445,"2025-02-07","(金)"]
[{"$f":"COUNTIF($B$4:B316,1)","v":44},0,6,446,"2025-02-08","(土)"]
[{"$f":"COUNTIF($B$4:B317,1)","v":44},0,7,447,"2025-02-09","(日)"]
[{"$f":"COUNTIF($B$4:B318,1)","v":45},1,1,451,"2025-02-10","(月)"]
[{"$f":"COUNTIF($B$4:B319,1)","v":45},0,2,452,"2025-02-11","(火)"]
[{"$f":"COUNTIF($B$4:B320,1)","v":45},0,3,453,"2025-02-12","(水)"]
[{"$f":"COUNTIF($B$4:B321,1)","v":45},0,4,454,"2025-02-13","(木)"]
[{"$f":"COUNTIF($B$4:B322,1)","v":45},0,5,455,"2025-02-14","(金)"]
[{"$f":"COUNTIF($B$4:B323,1)","v":45},0,6,456,"2025-02-15","(土)"]
[{"$f":"COUNTIF($B$4:B324,1)","v":45},0,{"$f":"_xlfn.IFS(F324=\"(月)\",1,F324=\"(火)\",2,F324=\"(水)\",3,F324=\"(木)\",4,F324=\"(金)\",5,F324=\"(土)\",6,F324=\"(日)\",7)","v":7},{"$f":"A324*10+C324","v":457},"2025-02-16",{"$f":"TEXT(E324,\"(aaa)\")","v":"(日)"}]
[{"$f":"COUNTIF($B$4:B325,1)","v":46},1,1,461,"2025-02-17","(月)"]
[{"$f":"COUNTIF($B$4:B326,1)","v":46},{"$f":"IF(F326=\"(月)\",1,0)","v":0},2,462,"2025-02-18","(火)"]
[{"$f":"COUNTIF($B$4:B327,1)","v":46},0,3,463,"2025-02-19","(水)"]
[{"$f":"COUNTIF($B$4:B328,1)","v":46},0,4,464,"2025-02-20","(木)"]
[{"$f":"COUNTIF($B$4:B329,1)","v":46},0,5,465,"2025-02-21","(金)"]
[{"$f":"COUNTIF($B$4:B330,1)","v":46},0,6,466,"2025-02-22","(土)"]
[{"$f":"COUNTIF($B$4:B331,1)","v":46},0,7,467,"2025-02-23","(日)"]
[{"$f":"COUNTIF($B$4:B332,1)","v":47},1,1,471,"2025-02-24","(月)"]
[{"$f":"COUNTIF($B$4:B333,1)","v":47},0,2,472,"2025-02-25","(火)"]
[{"$f":"COUNTIF($B$4:B334,1)","v":47},0,3,473,"2025-02-26","(水)"]
[{"$f":"COUNTIF($B$4:B335,1)","v":47},0,4,474,"2025-02-27","(木)"]
[{"$f":"COUNTIF($B$4:B336,1)","v":47},0,5,475,"2025-02-28","(金)"]
[{"$f":"COUNTIF($B$4:B337,1)","v":47},0,6,476,"2025-03-01","(土)"]
[{"$f":"COUNTIF($B$4:B338,1)","v":47},0,7,477,"2025-03-02","(日)"]
[{"$f":"COUNTIF($B$4:B339,1)","v":48},1,1,481,"2025-03-03","(月)"]
[{"$f":"COUNTIF($B$4:B340,1)","v":48},0,2,482,"2025-03-04","(火)"]
[{"$f":"COUNTIF($B$4:B341,1)","v":48},0,3,483,"2025-03-05","(水)"]
[{"$f":"COUNTIF($B$4:B342,1)","v":48},0,4,484,"2025-03-06","(木)"]
[{"$f":"COUNTIF($B$4:B343,1)","v":48},0,5,485,"2025-03-07","(金)"]
[{"$f":"COUNTIF($B$4:B344,1)","v":48},0,6,486,"2025-03-08","(土)"]
[{"$f":"COUNTIF($B$4:B345,1)","v":48},0,7,487,"2025-03-09","(日)"]
[{"$f":"COUNTIF($B$4:B346,1)","v":49},1,1,491,"2025-03-10","(月)"]
[{"$f":"COUNTIF($B$4:B347,1)","v":49},0,2,492,"2025-03-11","(火)"]
[{"$f":"COUNTIF($B$4:B348,1)","v":49},0,3,493,"2025-03-12","(水)"]
[{"$f":"COUNTIF($B$4:B349,1)","v":49},0,4,494,"2025-03-13","(木)"]
[{"$f":"COUNTIF($B$4:B350,1)","v":49},0,5,495,"2025-03-14","(金)"]
[{"$f":"COUNTIF($B$4:B351,1)","v":49},0,6,496,"2025-03-15","(土)"]
[{"$f":"COUNTIF($B$4:B352,1)","v":49},0,7,497,"2025-03-16","(日)"]
[{"$f":"COUNTIF($B$4:B353,1)","v":50},1,1,501,"2025-03-17","(月)"]
[{"$f":"COUNTIF($B$4:B354,1)","v":50},0,2,502,"2025-03-18","(火)"]
[{"$f":"COUNTIF($B$4:B355,1)","v":50},0,3,503,"2025-03-19","(水)"]
[{"$f":"COUNTIF($B$4:B356,1)","v":50},0,4,504,"2025-03-20","(木)"]
[{"$f":"COUNTIF($B$4:B357,1)","v":50},0,5,505,"2025-03-21","(金)"]
[{"$f":"COUNTIF($B$4:B358,1)","v":50},0,6,506,"2025-03-22","(土)"]
[{"$f":"COUNTIF($B$4:B359,1)","v":50},0,7,507,"2025-03-23","(日)"]
[{"$f":"COUNTIF($B$4:B360,1)","v":51},1,1,511,"2025-03-24","(月)"]
[{"$f":"COUNTIF($B$4:B361,1)","v":51},0,2,512,"2025-03-25","(火)"]
[{"$f":"COUNTIF($B$4:B362,1)","v":51},0,3,513,"2025-03-26","(水)"]
[{"$f":"COUNTIF($B$4:B363,1)","v":51},0,4,514,"2025-03-27","(木)"]
[{"$f":"COUNTIF($B$4:B364,1)","v":51},0,5,515,"2025-03-28","(金)"]
[{"$f":"COUNTIF($B$4:B365,1)","v":51},0,6,516,{"$f":"E364+1","v":"2025-03-29"},"(土)"]
[{"$f":"COUNTIF($B$4:B366,1)","v":51},0,7,517,"2025-03-30","(日)"]
[{"$f":"COUNTIF($B$4:B367,1)","v":52},1,1,521,"2025-03-31","(月)"]
[{"$f":"COUNTIF($B$4:B368,1)","v":52},0,2,522,{"$f":"E367+1","v":"2025-04-01"},"(火)"]

{"sheet":"スケジュール (リンク無し)","index":1,"n_rows":19,"n_cols":6,"rows_kept":19,"cut":false,"hidden":false,"merged":[[0,0,1,0]]}
[]
[null,"月","火","水","木","金"]
["列1","列2","列3","列4","列5","列6"]
["行事等"]
["朝学習\n8:30-8:45\n8:30-8:45"]
["１時間目\n8:45-9:30\n8:45-9:25"]
["２時間目\n9:40-10:25\n9:35-10:15"]
["２０分休憩\n10:25-10:45\n10:15-10:35"]
["３時間目\n10:45-11:30\n10:35-11:15"]
["４時間目\n11:40-12:25\n11:25-12:05"]
["給食\n12:25-13:10\n12:05-12:50"]
["休憩\n13:10-13:20\n12:50-13:00"]
["清掃\n13:20-13:30\n13:00-13:10"]
["GT\n13:35-13:50\nなし"]
["５時間目\n13:50-14:35\n13:15-13:55"]
["６時間目\n14:45-15:30\n14:05-14:45"]
["終礼\n15:30-15:40\n14:45-14:55"]
["放課後"]
["To　Do"]

{"sheet":"スケジュール (週案のみ)","index":2,"n_rows":19,"n_cols":6,"rows_kept":19,"cut":false,"hidden":false,"merged":[[0,0,1,0]]}
[1,{"$f":"VLOOKUP($A$1*10+1,年間予定!$D$3:$H$368,2,1)","v":"2024-04-08"},{"$f":"VLOOKUP($A$1*10+2,年間予定!$D$3:$H$368,2,1)","v":"2024-04-09"},{"$f":"VLOOKUP($A$1*10+3,年間予定!$D$3:$H$368,2,1)","v":"2024-04-10"},{"$f":"VLOOKUP($A$1*10+4,年間予定!$D$3:$H$368,2,1)","v":"2024-04-11"},{"$f":"VLOOKUP($A$1*10+5,年間予定!$D$3:$H$368,2,1)","v":"2024-04-12"}]
[null,"月","火","水","木","金"]
["列1","列2","列3","列4","列5","列6"]
["行事等",{"$f":"VLOOKUP($A$1*10+1,年間予定!$D$3:$H$368,5,1)","v":"始業式"},{"$f":"VLOOKUP($A$1*10+2,年間予定!$D$3:$H$368,5,1)","v":"離任式"},{"$f":"VLOOKUP($A$1*10+3,年間予定!$D$3:$H$368,5,1)","v":"地区児童会"},{"$f":"VLOOKUP($A$1*10+4,年間予定!$D$3:$H$368,5,1)","v":"午前中授業"},{"$f":"VLOOKUP($A$1*10+5,年間予定!$D$3:$H$368,5,1)","v":"午前中授業"}]
["朝学習\n8:30-8:45\n8:30-8:45"]
["１時間目\n8:45-9:30\n8:45-9:25"]
["２時間目\n9:40-10:25\n9:35-10:15"]
["２０分休憩\n10:25-10:45\n10:15-10:35"]
["３時間目\n10:45-11:30\n10:35-11:15"]
["４時間目\n11:40-12:25\n11:25-12:05"]
["給食\n12:25-13:10\n12:05-12:50"]
["休憩\n13:10-13:20\n12:50-13:00"]
["清掃\n13:20-13:30\n13:00-13:10"]
["GT\n13:35-13:50\nなし"]
["５時間目\n13:50-14:35\n13:15-13:55"]
["６時間目\n14:45-15:30\n14:05-14:45"]
["終礼\n15:30-15:40\n14:45-14:55"]
["放課後"]
["To　Do"]

{"sheet":"スケジュール(見開き)","index":3,"n_rows":18,"n_cols":19,"rows_kept":18,"cut":false,"hidden":false,"merged":[[1,7,1,8],[8,10,8,18],[9,10,9,18],[10,10,11,18],[1,10,1,18],[2,10,4,18],[5,10,5,18],[6,10,6,18],[7,10,7,18],[2,9,4,9],[10,9,11,9],[10,7,11,7],[10,8,11,8],[2,7,4,7],[2,8,4,8]]}
[]
[2,{"$f":"VLOOKUP($A$2*10+1,年間予定!$D$3:$H$368,2,1)","v":"2024-04-15"},{"$f":"VLOOKUP($A$2*10+2,年間予定!$D$3:$H$368,2,1)","v":"2024-04-16"},{"$f":"VLOOKUP($A$2*10+3,年間予定!$D$3:$H$368,2,1)","v":"2024-04-17"},{"$f":"VLOOKUP($A$2*10+4,年間予定!$D$3:$H$368,2,1)","v":"2024-04-18"},{"$f":"VLOOKUP($A$2*10+5,年間予定!$D$3:$H$368,2,1)","v":"2024-04-19"},null,"日",null,"校時","行事等"]
[{"$f":"VLOOKUP($A$2*10+1,年間予定!$D$3:$I$368,6,1)","v":"B"},"月","火","水","木","金",null,{"$f":"VLOOKUP($A$2*10+1,年間予定!$D$3:$H$368,2,1)","v":"2024-04-15"},"月",{"$f":"VLOOKUP($A$2*10+1,年間予定!$D$3:$H$368,4,1)","v":0},{"$f":"VLOOKUP($A$2*10+1,年間予定!$D$3:$H$368,5,1)","v":"職員打ち合わせ"}]
["列1","列2","列3","列4","列5","列6"]
["朝学習\n8:30-8:45\n8:30-8:45"]
["１時間目\n8:45-9:30\n8:45-9:25",null,null,null,null,null,null,{"$f":"VLOOKUP($A$2*10+2,年間予定!$D$3:$H$368,2,1)","v":"2024-04-16"},"火",{"$f":"VLOOKUP($A$2*10+2,年間予定!$D$3:$H$368,4,1)","v":"短縮"},{"$f":"VLOOKUP($A$2*10+2,年間予定!$D$3:$H$368,5,1)","v":"校務分掌部会"}]
["２時間目\n9:40-10:25\n9:35-10:15",null,null,null,null,null,null,{"$f":"VLOOKUP($A$2*10+3,年間予定!$D$3:$H$368,2,1)","v":"2024-04-17"},"水",{"$f":"VLOOKUP($A$2*10+3,年間予定!$D$3:$H$368,4,1)","v":0},{"$f":"VLOOKUP($A$2*10+3,年間予定!$D$3:$H$368,5,1)","v":"研究会"}]
["２０分休憩\n10:25-10:45\n10:15-10:35",null,null,null,null,null,null,{"$f":"VLOOKUP($A$2*10+4,年間予定!$D$3:$H$368,2,1)","v":"2024-04-18"},"木",{"$f":"VLOOKUP($A$2*10+4,年間予定!$D$3:$H$368,4,1)","v":0},{"$f":"VLOOKUP($A$2*10+4,年間予定!$D$3:$H$368,5,1)","v":"学年集会(４時間目)"}]
["３時間目\n10:45-11:30\n10:35-11:15",null,null,null,null,null,null,{"$f":"VLOOKUP($A$2*10+5,年間予定!$D$3:$H$368,2,1)","v":"2024-04-19"},"金",{"$f":"VLOOKUP($A$2*10+5,年間予定!$D$3:$H$368,4,1)","v":0},{"$f":"VLOOKUP($A$2*10+5,年間予定!$D$3:$H$368,5,1)","v":"職員会議"}]
["４時間目\n11:40-12:25\n11:25-12:05",null,null,null,null,null,null,{"$f":"H9+1","v":"2024-04-20"},"土",{"$f":"VLOOKUP($A$2*10+6,年間予定!$D$3:$H$368,4,1)","v":0},{"$f":"VLOOKUP($A$2*10+6,年間予定!$D$3:$H$368,5,1)","v":0}]
["給食\n12:25-13:10\n12:05-12:50",null,null,null,null,null,null,{"$f":"H10+1","v":"2024-04-21"},"日",{"$f":"VLOOKUP($A$2*10+7,年間予定!$D$3:$H$368,4,1)","v":0},{"$f":"VLOOKUP($A$2*10+7,年間予定!$D$3:$H$368,5,1)","v":0}]
["休憩\n13:10-13:20\n12:50-13:00"]
["清掃\n13:20-13:30\n13:00-13:10"]
["GT\n13:35-13:50\nなし",null,null,null,null,null,null,"MEMO",null,null,null,null,"日","月","火","水","木","金","土"]
["５時間目\n13:50-14:35\n13:20-14:00",null,null,null,null,null,null,null,null,null,null,null,{"$f":"N15-1","v":"2024-04-14"},{"$f":"VLOOKUP($A$2*10+1,年間予定!$D$3:$H$368,2,1)","v":"2024-04-15"},{"$f":"N15+1","v":"2024-04-16"},{"$f":"O15+1","v":"2024-04-17"},{"$f":"P15+1","v":"2024-04-18"},{"$f":"Q15+1","v":"2024-04-19"},{"$f":"R15+1","v":"2024-04-20"}]
["６時間目\n14:45-15:30\n14:10-14:50",null,null,null,null,null,null,null,null,null,null,null,{"$f":"S15+1","v":"2024-04-21"},{"$f":"M16+1","v":"2024-04-22"},{"$f":"N16+1","v":"2024-04-23"},"2024-04-24","2024-04-25","2024-04-26","2024-04-27"]
["終礼\n15:30-15:40\n14:50-15:00",null,null,null,null,null,null,null,null,null,null,null,{"$f":"S16+1","v":"2024-04-28"},{"$f":"M17+1","v":"2024-04-29"},"2024-04-30","2024-05-01","2024-05-02","2024-05-03","2024-05-04"]
["放課後",null,null,null,null,null,null,null,null,null,null,null,"2024-05-05",{"$f":"M18+1","v":"2024-05-06"},"2024-05-07","2024-05-08","2024-05-09","2024-05-10","2024-05-11"]